BEGIN:VCALENDAR
VERSION:2.0
PRODID:-//Grace Episcopal Church - ECPv6.1.2.2//NONSGML v1.0//EN
CALSCALE:GREGORIAN
METHOD:PUBLISH
X-WR-CALNAME:Grace Episcopal Church
X-ORIGINAL-URL:https://gracechurchfreeport.org
X-WR-CALDESC:Events for Grace Episcopal Church
REFRESH-INTERVAL;VALUE=DURATION:PT1H
X-Robots-Tag:noindex
X-PUBLISHED-TTL:PT1H
BEGIN:VTIMEZONE
TZID:America/Chicago
BEGIN:DAYLIGHT
TZOFFSETFROM:-0600
TZOFFSETTO:-0500
TZNAME:CDT
DTSTART:20260308T080000
END:DAYLIGHT
BEGIN:STANDARD
TZOFFSETFROM:-0500
TZOFFSETTO:-0600
TZNAME:CST
DTSTART:20261101T070000
END:STANDARD
END:VTIMEZONE
BEGIN:VEVENT
DTSTART;TZID=America/Chicago:20260329T090000
DTEND;TZID=America/Chicago:20260329T103000
DTSTAMP:20260419T104858
CREATED:20260225T151509Z
LAST-MODIFIED:20260225T151509Z
UID:10000253-1774774800-1774780200@gracechurchfreeport.org
SUMMARY:Palm Sunday Eucharist
DESCRIPTION:
URL:https://gracechurchfreeport.org/event/palm-sunday-eucharist/
CATEGORIES:Events
END:VEVENT
BEGIN:VEVENT
DTSTART;TZID=America/Chicago:20260402T180000
DTEND;TZID=America/Chicago:20260402T190000
DTSTAMP:20260419T104858
CREATED:20260325T164345Z
LAST-MODIFIED:20260325T164345Z
UID:10000255-1775152800-1775156400@gracechurchfreeport.org
SUMMARY:Agape Meal
DESCRIPTION:
URL:https://gracechurchfreeport.org/event/agape-meal/
CATEGORIES:Events
END:VEVENT
BEGIN:VEVENT
DTSTART;TZID=America/Chicago:20260403T113000
DTEND;TZID=America/Chicago:20260403T120000
DTSTAMP:20260419T104858
CREATED:20260325T164536Z
LAST-MODIFIED:20260325T164536Z
UID:10000257-1775215800-1775217600@gracechurchfreeport.org
SUMMARY:ECW First Friday Lunch
DESCRIPTION:Bring your own lunch\, beverage to be furnished. All ladies of the church are welcome to attend.
URL:https://gracechurchfreeport.org/event/ecw-first-friday-lunch/
CATEGORIES:Events
END:VEVENT
BEGIN:VEVENT
DTSTART;TZID=America/Chicago:20260403T121500
DTEND;TZID=America/Chicago:20260403T130000
DTSTAMP:20260419T104858
CREATED:20260325T164424Z
LAST-MODIFIED:20260325T164424Z
UID:10000256-1775218500-1775221200@gracechurchfreeport.org
SUMMARY:Good Friday Service
DESCRIPTION:
URL:https://gracechurchfreeport.org/event/good-friday-service/
CATEGORIES:Events
END:VEVENT
BEGIN:VEVENT
DTSTART;TZID=America/Chicago:20260404T190000
DTEND;TZID=America/Chicago:20260404T203000
DTSTAMP:20260419T104858
CREATED:20260325T164609Z
LAST-MODIFIED:20260325T164609Z
UID:10000258-1775329200-1775334600@gracechurchfreeport.org
SUMMARY:Easter Vigil
DESCRIPTION:
URL:https://gracechurchfreeport.org/event/easter-vigil/
CATEGORIES:Events
END:VEVENT
END:VCALENDAR