BEGIN:VCALENDAR
VERSION:2.0
PRODID:-//Grace Episcopal Church - ECPv6.1.2.2//NONSGML v1.0//EN
CALSCALE:GREGORIAN
METHOD:PUBLISH
X-WR-CALNAME:Grace Episcopal Church
X-ORIGINAL-URL:https://gracechurchfreeport.org
X-WR-CALDESC:Events for Grace Episcopal Church
REFRESH-INTERVAL;VALUE=DURATION:PT1H
X-Robots-Tag:noindex
X-PUBLISHED-TTL:PT1H
BEGIN:VTIMEZONE
TZID:America/Chicago
BEGIN:DAYLIGHT
TZOFFSETFROM:-0600
TZOFFSETTO:-0500
TZNAME:CDT
DTSTART:20260308T080000
END:DAYLIGHT
BEGIN:STANDARD
TZOFFSETFROM:-0500
TZOFFSETTO:-0600
TZNAME:CST
DTSTART:20261101T070000
END:STANDARD
END:VTIMEZONE
BEGIN:VEVENT
DTSTART;TZID=America/Chicago:20260308T090000
DTEND;TZID=America/Chicago:20260308T100000
DTSTAMP:20260419T111651
CREATED:20260225T150837Z
LAST-MODIFIED:20260225T150837Z
UID:10000244-1772960400-1772964000@gracechurchfreeport.org
SUMMARY:The Liturgy of the Word
DESCRIPTION:
URL:https://gracechurchfreeport.org/event/the-liturgy-of-the-word/
CATEGORIES:Events
END:VEVENT
BEGIN:VEVENT
DTSTART;TZID=America/Chicago:20260311T171500
DTEND;TZID=America/Chicago:20260311T183000
DTSTAMP:20260419T111651
CREATED:20260225T151145Z
LAST-MODIFIED:20260225T151145Z
UID:10000248-1773249300-1773253800@gracechurchfreeport.org
SUMMARY:Lenten Soup Supper
DESCRIPTION:
URL:https://gracechurchfreeport.org/event/lenten-soup-supper/
CATEGORIES:Events
END:VEVENT
BEGIN:VEVENT
DTSTART;TZID=America/Chicago:20260315T090000
DTEND;TZID=America/Chicago:20260315T100000
DTSTAMP:20260419T111651
CREATED:20260225T151216Z
LAST-MODIFIED:20260225T151216Z
UID:10000249-1773565200-1773568800@gracechurchfreeport.org
SUMMARY:The Liturgy of the Word
DESCRIPTION:
URL:https://gracechurchfreeport.org/event/the-liturgy-of-the-word-2/
CATEGORIES:Events
END:VEVENT
BEGIN:VEVENT
DTSTART;TZID=America/Chicago:20260318T171500
DTEND;TZID=America/Chicago:20260318T183000
DTSTAMP:20260419T111651
CREATED:20260225T151332Z
LAST-MODIFIED:20260225T151332Z
UID:10000251-1773854100-1773858600@gracechurchfreeport.org
SUMMARY:Lenten Soup Supper
DESCRIPTION:
URL:https://gracechurchfreeport.org/event/lenten-soup-supper-2/
CATEGORIES:Events
END:VEVENT
END:VCALENDAR